BEGIN:VCALENDAR
VERSION:2.0
PRODID:-//Plone.org//NONSGML plone.app.event//EN
X-WR-TIMEZONE:Europe/Berlin
BEGIN:VEVENT
SUMMARY:2° Seminario di aggiornamento per Ispettori Ambientali
DTSTART;TZID=Europe/Berlin;VALUE=DATE-TIME:20190520T090000
DTEND;TZID=Europe/Berlin;VALUE=DATE-TIME:20190520T173000
DTSTAMP;VALUE=DATE-TIME:20260425T190433Z
UID:88badfe50721424abae74f65686f8634@www.isprambiente.gov.it
CREATED;VALUE=DATE-TIME:20190528T122523Z
LAST-MODIFIED;VALUE=DATE-TIME:20250722T085439Z
LOCATION:Roma - ISPRA Via V. Brancati\, 60 - Sala del Consiglio Federale 
URL:https://www.isprambiente.gov.it/it/attivita/controlli-e-ispezioni/form
 azione-continua/formazione-2019/2deg-seminario-di-aggiornamento-per-ispett
 ori-ambientali
END:VEVENT
BEGIN:VTIMEZONE
TZID:Europe/Berlin
X-LIC-LOCATION:Europe/Berlin
BEGIN:DAYLIGHT
DTSTART;VALUE=DATE-TIME:20190331T030000
TZNAME:CEST
TZOFFSETFROM:+0100
TZOFFSETTO:+0200
END:DAYLIGHT
END:VTIMEZONE
END:VCALENDAR
