BEGIN:VCALENDAR
VERSION:2.0
PRODID:-//Plone.org//NONSGML plone.app.event//EN
X-WR-TIMEZONE:Europe/Berlin
BEGIN:VEVENT
SUMMARY:4° Seminario di aggiornamento per Ispettori Ambientali: “Sicure
 zza degli Ispettori”
DTSTART;TZID=Europe/Berlin;VALUE=DATE-TIME:20190923T090000
DTEND;TZID=Europe/Berlin;VALUE=DATE-TIME:20190923T170000
DTSTAMP;VALUE=DATE-TIME:20260425T162848Z
UID:74a13a88d0314c6590da7db7c95a2ad8@www.isprambiente.gov.it
CREATED;VALUE=DATE-TIME:20200702T071946Z
LAST-MODIFIED;VALUE=DATE-TIME:20250722T085439Z
LOCATION:Roma - ISPRA Via V. Brancati\, 48 - Sala Conferenze (sessione mat
 tutina) e Sala CEVAD (sessione pomeridiana)
URL:https://www.isprambiente.gov.it/it/attivita/controlli-e-ispezioni/form
 azione-continua/formazione-2019/4deg-seminario-di-aggiornamento-per-ispett
 ori-ambientali-201csicurezza-degli-ispettori201d
END:VEVENT
BEGIN:VTIMEZONE
TZID:Europe/Berlin
X-LIC-LOCATION:Europe/Berlin
BEGIN:DAYLIGHT
DTSTART;VALUE=DATE-TIME:20190331T030000
TZNAME:CEST
TZOFFSETFROM:+0100
TZOFFSETTO:+0200
END:DAYLIGHT
END:VTIMEZONE
END:VCALENDAR
