BEGIN:VCALENDAR
VERSION:2.0
PRODID:-//Plone.org//NONSGML plone.app.event//EN
X-WR-TIMEZONE:Europe/Berlin
BEGIN:VEVENT
SUMMARY:5° Seminario di aggiornamento per Ispettori Ambientali
DTSTART;VALUE=DATE:20191014
DTEND;VALUE=DATE:20191015
DTSTAMP;VALUE=DATE-TIME:20260425T162848Z
UID:11860f9e817c426694d4e38668b5f1f3@www.isprambiente.gov.it
CREATED;VALUE=DATE-TIME:20200702T072352Z
LAST-MODIFIED;VALUE=DATE-TIME:20250722T085439Z
LOCATION:Roma - ISPRA Via V. Brancati\, 48 - Sala CEVAD
URL:https://www.isprambiente.gov.it/it/attivita/controlli-e-ispezioni/form
 azione-continua/formazione-2019/5deg-seminario-di-aggiornamento-per-ispett
 ori-ambientali
END:VEVENT
END:VCALENDAR
