BEGIN:VCALENDAR
VERSION:2.0
PRODID:-//Plone.org//NONSGML plone.app.event//EN
X-WR-TIMEZONE:Europe/Berlin
BEGIN:VEVENT
SUMMARY:1° Seminario di aggiornamento per Ispettori Ambientali "Attività
  Ispettive 2020"
DTSTART;VALUE=DATE:20200210
DTEND;VALUE=DATE:20200211
DTSTAMP;VALUE=DATE-TIME:20260425T190316Z
UID:272df9ebab94463a870d383ea710de1d@www.isprambiente.gov.it
CREATED;VALUE=DATE-TIME:20200224T113105Z
LAST-MODIFIED;VALUE=DATE-TIME:20250722T085438Z
LOCATION:Roma - ISPRA Via V. Brancati\, 48 - Sala Conferenze
URL:https://www.isprambiente.gov.it/it/attivita/controlli-e-ispezioni/form
 azione-continua/seminari-2020/1deg-seminario-di-aggiornamento-per-ispettor
 i-ambientali-attivita-ispettive-2020
END:VEVENT
END:VCALENDAR
