BEGIN:VCALENDAR
VERSION:2.0
PRODID:-//Plone.org//NONSGML plone.app.event//EN
X-WR-TIMEZONE:Europe/Berlin
BEGIN:VEVENT
SUMMARY:3° Seminario di aggiornamento per Ispettori Ambientali "Monitorag
 gio degli odori e criticità associate"
DTSTART;VALUE=DATE:20200708
DTEND;VALUE=DATE:20200709
DTSTAMP;VALUE=DATE-TIME:20260425T162932Z
UID:b13530d970af41569b9511a79dfb57d0@www.isprambiente.gov.it
CREATED;VALUE=DATE-TIME:20200717T070858Z
LAST-MODIFIED;VALUE=DATE-TIME:20250722T085439Z
LOCATION:Roma - ISPRA - videoconferenza
URL:https://www.isprambiente.gov.it/it/attivita/controlli-e-ispezioni/form
 azione-continua/seminari-2020/3deg-seminario-di-aggiornamento-per-ispettor
 i-ambientali-monitoraggio-degli-odori-e-criticita-associate
END:VEVENT
END:VCALENDAR
