BEGIN:VCALENDAR
VERSION:2.0
PRODID:-//Plone.org//NONSGML plone.app.event//EN
X-WR-TIMEZONE:Europe/Berlin
BEGIN:VEVENT
SUMMARY:4° Seminario di aggiornamento per Ispettori Ambientali
DTSTART;TZID=Europe/Berlin;VALUE=DATE-TIME:20200916T083000
DTEND;TZID=Europe/Berlin;VALUE=DATE-TIME:20200916T133000
DTSTAMP;VALUE=DATE-TIME:20260425T162826Z
UID:c8280ac5a1fa4e5f98dc993b36ab06fe@www.isprambiente.gov.it
CREATED;VALUE=DATE-TIME:20200918T064524Z
DESCRIPTION:Nuovo protocollo per lo svolgimento delle ispezioni Seveso nel
  periodo COVID
LAST-MODIFIED;VALUE=DATE-TIME:20250722T085439Z
LOCATION:Videoconferenza
URL:https://www.isprambiente.gov.it/it/attivita/controlli-e-ispezioni/form
 azione-continua/seminari-2020/4deg-seminario-di-aggiornamento-per-ispettor
 i-ambientali
END:VEVENT
BEGIN:VTIMEZONE
TZID:Europe/Berlin
X-LIC-LOCATION:Europe/Berlin
BEGIN:DAYLIGHT
DTSTART;VALUE=DATE-TIME:20200329T030000
TZNAME:CEST
TZOFFSETFROM:+0100
TZOFFSETTO:+0200
END:DAYLIGHT
END:VTIMEZONE
END:VCALENDAR
