BEGIN:VCALENDAR
VERSION:2.0
PRODID:-//Plone.org//NONSGML plone.app.event//EN
X-WR-TIMEZONE:Europe/Berlin
BEGIN:VEVENT
SUMMARY:5° Seminario di aggiornamento per Ispettori Ambientali
DTSTART;VALUE=DATE:20201030
DTEND;VALUE=DATE:20201031
DTSTAMP;VALUE=DATE-TIME:20260425T162828Z
UID:bf95a102e67b44d9a2bc73598462dbde@www.isprambiente.gov.it
CREATED;VALUE=DATE-TIME:20201030T065419Z
DESCRIPTION:Emissioni in atmosfera: inquadramento normativo e sistema sanz
 ionatorio\, monitoraggio e tecniche di campionamento\, requisiti di qualit
 à dei misuratori in continuo
LAST-MODIFIED;VALUE=DATE-TIME:20250722T085439Z
LOCATION:Roma - ISPRA - videoconferenza
URL:https://www.isprambiente.gov.it/it/attivita/controlli-e-ispezioni/form
 azione-continua/seminari-2020/5-seminario-di-aggiornamento-per-ispettori-a
 mbientali
END:VEVENT
END:VCALENDAR
