BEGIN:VCALENDAR
VERSION:2.0
PRODID:-//Plone.org//NONSGML plone.app.event//EN
X-WR-TIMEZONE:Europe/Berlin
BEGIN:VEVENT
SUMMARY:6° Seminario di aggiornamento per ispettori ambientali
DTSTART;VALUE=DATE:20201116
DTEND;VALUE=DATE:20201117
DTSTAMP;VALUE=DATE-TIME:20260425T162844Z
UID:eced009f7be640d5abcb4a3e51b075fc@www.isprambiente.gov.it
CREATED;VALUE=DATE-TIME:20201120T083123Z
DESCRIPTION:Il sistema di monitoraggio dei combustibili: i report di ISPRA
  Seminario Webinar
LAST-MODIFIED;VALUE=DATE-TIME:20250722T085439Z
URL:https://www.isprambiente.gov.it/it/attivita/controlli-e-ispezioni/form
 azione-continua/seminari-2020/il-sistema-di-monitoraggio-dei-combustibili-
 i-report-di-ispra
END:VEVENT
END:VCALENDAR
