BEGIN:VCALENDAR
VERSION:2.0
PRODID:-//Plone.org//NONSGML plone.app.event//EN
X-WR-TIMEZONE:Europe/Berlin
BEGIN:VEVENT
SUMMARY:Seminario di aggiornamento per Ispettori Ambientali e Seveso - "Ge
 stione dei processi Claus nelle raffinerie: monitoraggio della desolforazi
 one"
DTSTART;VALUE=DATE:20220318
DTEND;VALUE=DATE:20220319
DTSTAMP;VALUE=DATE-TIME:20260425T162939Z
UID:f514f42ac768487f8d59fb69aad78eb6@www.isprambiente.gov.it
CREATED;VALUE=DATE-TIME:20220321T080846Z
LAST-MODIFIED;VALUE=DATE-TIME:20250722T085438Z
LOCATION:Roma - ISPRA - videoconferenza e in presenza (Sala Conferenze)
URL:https://www.isprambiente.gov.it/it/attivita/controlli-e-ispezioni/form
 azione-continua/seminari-2022/seminario-di-aggiornamento-per-ispettori-amb
 ientali-e-seveso-gestione-dei-processi-claus-nelle-raffinerie-monitoraggio
 -della-desolforazione
END:VEVENT
END:VCALENDAR
