BEGIN:VCALENDAR
VERSION:2.0
PRODID:-//Plone.org//NONSGML plone.app.event//EN
X-WR-TIMEZONE:Europe/Berlin
BEGIN:VEVENT
SUMMARY:Seminario di aggiornamento per Ispettori Ambientali e Seveso "Moni
 toraggio dei serbatoi atmosferici in acciaio contenenti prodotti idrocarbu
 rici"
DTSTART;TZID=Europe/Berlin;VALUE=DATE-TIME:20220429T003000
DTEND;TZID=Europe/Berlin;VALUE=DATE-TIME:20220429T133000
DTSTAMP;VALUE=DATE-TIME:20260425T174845Z
UID:af7bfeccf6e7491897ebba45a35e110e@www.isprambiente.gov.it
CREATED;VALUE=DATE-TIME:20220504T084826Z
LAST-MODIFIED;VALUE=DATE-TIME:20250722T085438Z
LOCATION:Roma - ISPRA - videoconferenza e in presenza (Sala Conferenze)
URL:https://www.isprambiente.gov.it/it/attivita/controlli-e-ispezioni/form
 azione-continua/seminari-2022/seminario-di-aggiornamento-per-ispettori-amb
 ientali-e-seveso-monitoraggio-dei-serbatoi-atmosferici-in-acciaio-contenen
 ti-prodotti-idrocarburici
END:VEVENT
BEGIN:VTIMEZONE
TZID:Europe/Berlin
X-LIC-LOCATION:Europe/Berlin
BEGIN:DAYLIGHT
DTSTART;VALUE=DATE-TIME:20220327T030000
TZNAME:CEST
TZOFFSETFROM:+0100
TZOFFSETTO:+0200
END:DAYLIGHT
END:VTIMEZONE
END:VCALENDAR
