BEGIN:VCALENDAR
VERSION:2.0
PRODID:-//Plone.org//NONSGML plone.app.event//EN
X-WR-TIMEZONE:Europe/Berlin
BEGIN:VEVENT
SUMMARY:Seminario di aggiornamento per Ispettori Ambientali e Seveso - "Mo
 nitoraggio delle emissioni in atmosfera"
DTSTART;TZID=Europe/Berlin;VALUE=DATE-TIME:20220527T083000
DTEND;TZID=Europe/Berlin;VALUE=DATE-TIME:20220527T131500
DTSTAMP;VALUE=DATE-TIME:20260425T162941Z
UID:5ea5a5ac49044c13b58032bfc2ba9f4e@www.isprambiente.gov.it
CREATED;VALUE=DATE-TIME:20220530T112220Z
LAST-MODIFIED;VALUE=DATE-TIME:20250722T085438Z
LOCATION:Roma - ISPRA - videoconferenza e in presenza (Sala Conferenze)
URL:https://www.isprambiente.gov.it/it/attivita/controlli-e-ispezioni/form
 azione-continua/seminari-2022/seminario-di-aggiornamento-per-ispettori-amb
 ientali-e-seveso-monitoraggio-delle-emissioni-in-atmosfera
END:VEVENT
BEGIN:VTIMEZONE
TZID:Europe/Berlin
X-LIC-LOCATION:Europe/Berlin
BEGIN:DAYLIGHT
DTSTART;VALUE=DATE-TIME:20220327T030000
TZNAME:CEST
TZOFFSETFROM:+0100
TZOFFSETTO:+0200
END:DAYLIGHT
END:VTIMEZONE
END:VCALENDAR
