BEGIN:VCALENDAR
VERSION:2.0
PRODID:-//Plone.org//NONSGML plone.app.event//EN
X-WR-TIMEZONE:Europe/Berlin
BEGIN:VEVENT
SUMMARY:Seminario di aggiornamento per Ispettori Ambientali e Seveso - "Si
 stema di gestione per la qualità delle attività ispettive AIA"
DTSTART;VALUE=DATE:20220131
DTEND;VALUE=DATE:20220201
DTSTAMP;VALUE=DATE-TIME:20260425T162941Z
UID:58c1b06368a641a3b4ac4cd174e89d3b@www.isprambiente.gov.it
CREATED;VALUE=DATE-TIME:20220203T110613Z
LAST-MODIFIED;VALUE=DATE-TIME:20250722T085438Z
LOCATION:Roma\, Videoconferenza
URL:https://www.isprambiente.gov.it/it/attivita/controlli-e-ispezioni/form
 azione-continua/seminari-2022/seminario-di-aggiornamento-per-ispettori-amb
 ientali-e-seveso-sistema-di-gestione-per-la-qualita-delle-attivita-ispetti
 ve-aia
END:VEVENT
END:VCALENDAR
