BEGIN:VCALENDAR
VERSION:2.0
PRODID:-//Plone.org//NONSGML plone.app.event//EN
X-WR-TIMEZONE:Europe/Berlin
BEGIN:VEVENT
SUMMARY:Seminario di formazione e aggiornamento per Ispettori Ambientali e
  Seveso - Monitoraggio delle emissioni odorigene
DTSTART;VALUE=DATE:20221014
DTEND;VALUE=DATE:20221015
DTSTAMP;VALUE=DATE-TIME:20260425T162940Z
UID:d89c09f209a64f53a943a48447fe73a4@www.isprambiente.gov.it
CREATED;VALUE=DATE-TIME:20221017T131008Z
DESCRIPTION:Gli Ispettori Ambientali e Seveso\, nel loro percorso di forma
 zione e aggiornamento continuo in linea con il dettato normativo del Regol
 amento Ispettori vigente\, hanno affrontato nell’ambito del sesto semina
 rio 2022 – tenutosi il 14 ottobre\, in modalità webinar e in presenza 
 – l’aspetto delle emissioni odorigene.   L'evento ha visto la partecip
 azione del Politecnico di Milano (Laboratorio Olfattometrico) che vanta su
  questa tematica critica ed attuale un’esperienza e una professionalità
  pluridecennale.   L’odore rappresenta attualmente un inquinante sempre 
 più attenzionato e una delle maggiori cause di lamentele e segnalazioni a
 lle autorità di controllo da parte della popolazione in tutto il mondo co
 n questo inciso di avvio della prima presentazione in programma - dopo il 
 discorso d'introduzione ai lavori e di ringraziamento del Capo Dipartiment
 o VAL\, ing. Alfredo Pini\, e del Responsabile del Servizio VAL-RTEC\, ing
 . Fabio Ferranti - la prof.ssa Sironi e lo staff di esperti del Laboratori
 o Olfattometrico si sono succeduti illustrando la normativa e le metodolog
 ie di monitoraggio e controllo delle emissioni odorigene\, in particolare\
 , per il comparto petrolchimico e raffinazione del grezzo\, oggetto delle 
 Autorizzazioni Integrate Ambientali (AIA) di competenza statale e\, quindi
 \, delle attività di vigilanza e controllo da parte del corpo ispettivo I
 SPRA:      Dott.ssa Elisa Polvara – “Prescrizioni AIA per monitoraggio
  emissioni odorigene: stato dell’arte e approcci su base europea”     
 Prof.ssa Ing. Selena Sironi – “Approcci metodologici per la valutazion
 e dell’impatto olfattivo”     Dott. Ing. Marzio Invernizzi – “Meto
 di di caratterizzazione di sorgenti complesse”     Ing. Francesca Taglia
 ferri – “Sistemi per la stima di dispersione atmosferica: la scelta de
 l modello”     Ing. Giacomo Scolieri – “Rapporti tecnici sulla valut
 azione delle emissioni odorigene con relativo impatto olfattivo del compar
 to petrolchimico e raffinazione grezzo”.
LAST-MODIFIED;VALUE=DATE-TIME:20250722T085438Z
LOCATION:Roma - ISPRA - videoconferenza e in presenza (Sala Conferenze)
URL:https://www.isprambiente.gov.it/it/attivita/controlli-e-ispezioni/form
 azione-continua/seminari-2022/seminario-di-formazione-e-aggiornamento-per-
 ispettori-ambientali-e-seveso-monitoraggio-delle-emissioni-odorigene
END:VEVENT
END:VCALENDAR
