BEGIN:VCALENDAR
VERSION:2.0
PRODID:-//Plone.org//NONSGML plone.app.event//EN
X-WR-TIMEZONE:Europe/Berlin
BEGIN:VEVENT
SUMMARY:Seminario formativo per Ispettori Ambientali ISPRA - "Modalità ap
 plicazione LDAR su impianti chimici e raffinerie"
DTSTART;TZID=Europe/Berlin;VALUE=DATE-TIME:20221124T083000
DTEND;TZID=Europe/Berlin;VALUE=DATE-TIME:20221124T133000
DTSTAMP;VALUE=DATE-TIME:20260425T162934Z
UID:dbd2da521db4463092ed94910349a818@www.isprambiente.gov.it
CREATED;VALUE=DATE-TIME:20221206T065828Z
LAST-MODIFIED;VALUE=DATE-TIME:20250722T085438Z
LOCATION:Roma - ISPRA - videoconferenza e in presenza (Sala Conferenze)
URL:https://www.isprambiente.gov.it/it/attivita/controlli-e-ispezioni/form
 azione-continua/seminari-2022/seminario-formativo-per-ispettori-ambientali
 -ispra-modalita-applicazione-ldar-su-impianti-chimici-e-raffinerie
END:VEVENT
BEGIN:VTIMEZONE
TZID:Europe/Berlin
X-LIC-LOCATION:Europe/Berlin
BEGIN:STANDARD
DTSTART;VALUE=DATE-TIME:20221030T020000
TZNAME:CET
TZOFFSETFROM:+0200
TZOFFSETTO:+0100
END:STANDARD
END:VTIMEZONE
END:VCALENDAR
