BEGIN:VCALENDAR
VERSION:2.0
PRODID:-//Plone.org//NONSGML plone.app.event//EN
X-WR-TIMEZONE:Europe/Berlin
BEGIN:VEVENT
SUMMARY:Seminario “IED e il processo di Siviglia: il ruolo di ISPRA e de
 l SNPA per il supporto al Ministero della Transizione Ecologica”
DTSTART;VALUE=DATE:20220621
DTEND;VALUE=DATE:20220622
DTSTAMP;VALUE=DATE-TIME:20260425T162809Z
UID:30c926a0b5d44313a62b5864c2eacc1f@www.isprambiente.gov.it
CREATED;VALUE=DATE-TIME:20220623T082157Z
LAST-MODIFIED;VALUE=DATE-TIME:20250722T085438Z
LOCATION:Roma - ISPRA - videoconferenza e in presenza (Sala Conferenze)
URL:https://www.isprambiente.gov.it/it/attivita/controlli-e-ispezioni/form
 azione-continua/seminari-2022/seminario-ied-e-il-processo-di-siviglia
END:VEVENT
END:VCALENDAR
