BEGIN:VCALENDAR
VERSION:2.0
PRODID:-//Plone.org//NONSGML plone.app.event//EN
X-WR-TIMEZONE:Europe/Berlin
BEGIN:VEVENT
SUMMARY:Riunione informativa e di aggiornamento del Servizio Val Rtec - "A
 ndamento degli obiettivi di performance e qualità 2023"
DTSTART;VALUE=DATE:20230914
DTEND;VALUE=DATE:20230915
DTSTAMP;VALUE=DATE-TIME:20260425T162934Z
UID:29d4b137960d47e29174f514249735ba@www.isprambiente.gov.it
CREATED;VALUE=DATE-TIME:20230918T064504Z
LAST-MODIFIED;VALUE=DATE-TIME:20250722T085438Z
LOCATION:Roma - ISPRA - videoconferenza e in presenza (Sala Conferenze)
URL:https://www.isprambiente.gov.it/it/attivita/controlli-e-ispezioni/form
 azione-continua/seminari-2023/riunione-informativa-e-di-aggiornamento-del-
 servizio-val-rtec-andamento-degli-obiettivi-di-performance-e-qualita-2023
END:VEVENT
END:VCALENDAR
