BEGIN:VCALENDAR
VERSION:2.0
PRODID:-//Plone.org//NONSGML plone.app.event//EN
X-WR-TIMEZONE:Europe/Berlin
BEGIN:VEVENT
SUMMARY:Seminario di aggiornamento per il Comando Carabinieri per la Tutel
 a dell’Ambiente e per la Transizione Ecologica “Ispezioni e autorizzaz
 ioni ambientali”
DTSTART;VALUE=DATE:20230427
DTEND;VALUE=DATE:20230429
DTSTAMP;VALUE=DATE-TIME:20260425T162942Z
UID:b53e013f62214d49bdbe77e178528522@www.isprambiente.gov.it
CREATED;VALUE=DATE-TIME:20230503T102624Z
LAST-MODIFIED;VALUE=DATE-TIME:20250722T085438Z
URL:https://www.isprambiente.gov.it/it/attivita/controlli-e-ispezioni/form
 azione-continua/seminari-2023/seminario-di-aggiornamento-per-il-comando-ca
 rabinieri-per-la-tutela-dell2019ambiente-e-per-la-transizione-ecologica-20
 1cispezioni-e-autorizzazioni-ambientali201d
END:VEVENT
END:VCALENDAR
