BEGIN:VCALENDAR
VERSION:2.0
PRODID:-//Plone.org//NONSGML plone.app.event//EN
X-WR-TIMEZONE:Europe/Berlin
BEGIN:VEVENT
SUMMARY:Seminario di aggiornamento per Ispettori Ambientali ISPRA: "ASSET 
 INTEGRITY SOFTWARE"
DTSTART;VALUE=DATE:20230915
DTEND;VALUE=DATE:20230916
DTSTAMP;VALUE=DATE-TIME:20260425T162806Z
UID:79fdc15bf47d4e99a3b75d90f45c471f@www.isprambiente.gov.it
CREATED;VALUE=DATE-TIME:20230918T115202Z
LAST-MODIFIED;VALUE=DATE-TIME:20250722T085438Z
LOCATION:Roma - ISPRA - videoconferenza e in presenza (Sala Conferenze)
URL:https://www.isprambiente.gov.it/it/attivita/controlli-e-ispezioni/form
 azione-continua/seminari-2023/seminario-di-aggiornamento-per-ispettori-amb
 ientali-ispra-asset-integrity-software
END:VEVENT
END:VCALENDAR
