BEGIN:VCALENDAR
VERSION:2.0
PRODID:-//Plone.org//NONSGML plone.app.event//EN
X-WR-TIMEZONE:Europe/Berlin
BEGIN:VEVENT
SUMMARY:Seminario di aggiornamento per Ispettori Ambientali ISPRA: "Tecnic
 he di monitoraggio delle emissioni diffuse e fuggitive in atmosfera"
DTSTART;TZID=Europe/Berlin;VALUE=DATE-TIME:20231004T110000
DTEND;TZID=Europe/Berlin;VALUE=DATE-TIME:20231004T120000
DTSTAMP;VALUE=DATE-TIME:20260425T162934Z
UID:3b7031af6b9d4698a401892c75f64c89@www.isprambiente.gov.it
CREATED;VALUE=DATE-TIME:20231006T091938Z
LAST-MODIFIED;VALUE=DATE-TIME:20250722T085438Z
LOCATION:Roma - ISPRA - videoconferenza e in presenza (Sala Conferenze)
URL:https://www.isprambiente.gov.it/it/attivita/controlli-e-ispezioni/form
 azione-continua/seminari-2023/seminario-di-aggiornamento-per-ispettori-amb
 ientali-ispra-tecniche-di-monitoraggio-delle-emissioni-diffuse-e-fuggitive
 -in-atmosfera
END:VEVENT
BEGIN:VTIMEZONE
TZID:Europe/Berlin
X-LIC-LOCATION:Europe/Berlin
BEGIN:DAYLIGHT
DTSTART;VALUE=DATE-TIME:20230326T030000
TZNAME:CEST
TZOFFSETFROM:+0100
TZOFFSETTO:+0200
END:DAYLIGHT
END:VTIMEZONE
END:VCALENDAR
