BEGIN:VCALENDAR
VERSION:2.0
PRODID:-//Plone.org//NONSGML plone.app.event//EN
X-WR-TIMEZONE:Europe/Berlin
BEGIN:VEVENT
SUMMARY:Seminario di formazione e aggiornamento per Ispettori Ambientali I
 SPRA: "La depurazione degli scarichi industriali"
DTSTART;VALUE=DATE:20231023
DTEND;VALUE=DATE:20231024
DTSTAMP;VALUE=DATE-TIME:20260425T162942Z
UID:02ea3ce94a1749dda5c6a2f378ec172e@www.isprambiente.gov.it
CREATED;VALUE=DATE-TIME:20231024T112432Z
LAST-MODIFIED;VALUE=DATE-TIME:20250722T085438Z
LOCATION:Webinar e in presenza
URL:https://www.isprambiente.gov.it/it/attivita/controlli-e-ispezioni/form
 azione-continua/seminari-2023/seminario-di-formazione-e-aggiornamento-per-
 ispettori-ambientali-ispra-la-depurazione-degli-scarichi-industriali
END:VEVENT
END:VCALENDAR
