BEGIN:VCALENDAR
VERSION:2.0
PRODID:-//Plone.org//NONSGML plone.app.event//EN
X-WR-TIMEZONE:Europe/Berlin
BEGIN:VEVENT
SUMMARY:Seminario informativo e aggiornamento per Ispettori Ambientali e S
 eveso “Sistema Gestione Qualità: il Processo Attività ispettive AIA"
DTSTART;VALUE=DATE:20230406
DTEND;VALUE=DATE:20230407
DTSTAMP;VALUE=DATE-TIME:20260425T162934Z
UID:b1daefec5b224aac99da990e4e4c4c63@www.isprambiente.gov.it
CREATED;VALUE=DATE-TIME:20230407T081956Z
LAST-MODIFIED;VALUE=DATE-TIME:20250722T085438Z
LOCATION:Roma – ISPRA – Sala Conferenze e videoconferenza
URL:https://www.isprambiente.gov.it/it/attivita/controlli-e-ispezioni/form
 azione-continua/seminari-2023/seminario-informativo-e-aggiornamento-per-is
 pettori-ambientali-e-seveso-201csistema-gestione-qualita-il-processo-attiv
 ita-ispettive-aia
END:VEVENT
END:VCALENDAR
