BEGIN:VCALENDAR
VERSION:2.0
PRODID:-//Plone.org//NONSGML plone.app.event//EN
X-WR-TIMEZONE:Europe/Berlin
BEGIN:VEVENT
SUMMARY:IV Corso di Formazione per Ispettori Ambientali ISPRA
DTSTART;VALUE=DATE:20240126
DTEND;VALUE=DATE:20240309
DTSTAMP;VALUE=DATE-TIME:20260425T162750Z
UID:b8fbef2be70f449592d6c1b40fd6741d@www.isprambiente.gov.it
CREATED;VALUE=DATE-TIME:20240122T105620Z
LAST-MODIFIED;VALUE=DATE-TIME:20250722T085438Z
LOCATION:In presenza e in collegamento webinar
URL:https://www.isprambiente.gov.it/it/attivita/controlli-e-ispezioni/form
 azione-continua/seminari-2024/iv-corso-di-formazione-per-ispettori-ambient
 ali-ispra
END:VEVENT
END:VCALENDAR
