BEGIN:VCALENDAR
VERSION:2.0
PRODID:-//Plone.org//NONSGML plone.app.event//EN
X-WR-TIMEZONE:Europe/Berlin
BEGIN:VEVENT
SUMMARY:L’evoluzione qualitativa dei carburanti e lo sviluppo di soluzio
 ni alternative low carbon
DTSTART;VALUE=DATE:20241205
DTEND;VALUE=DATE:20241206
DTSTAMP;VALUE=DATE-TIME:20260425T162933Z
UID:2b3da84bc3714f679b5cb9754dae18f6@www.isprambiente.gov.it
CREATED;VALUE=DATE-TIME:20241125T113043Z
DESCRIPTION:Si è tenuto il 5 dicembre 2024 il seminario di informazione e
  approfondimento\, in modalità webinar\, “l’evoluzione qualitativa de
 i carburanti e lo sviluppo di soluzioni alternative low carbon”.    Foc
 alizzare l’attenzione su alcuni dei principali aspetti di carattere tecn
 ico-normativo e fornire dei cenni sullo sviluppo dei “Low Carbon Fuel”
  per la diversificazione dell’approvvigionamento energetico. Questa la f
 inalità principale dell’evento realizzato a cura della Sezione Analisi 
 Integrata dei Rischi Industriali del Servizio VAL RTEC di ISPRA.
LAST-MODIFIED;VALUE=DATE-TIME:20250722T085438Z
LOCATION:Roma - ISPRA - Webinar
URL:https://www.isprambiente.gov.it/it/attivita/controlli-e-ispezioni/form
 azione-continua/seminari-2024/l2019evoluzione-qualitativa-dei-carburanti-e
 -lo-sviluppo-di-soluzioni-alternative-low-carbon
END:VEVENT
END:VCALENDAR
