BEGIN:VCALENDAR
VERSION:2.0
PRODID:-//Plone.org//NONSGML plone.app.event//EN
X-WR-TIMEZONE:Europe/Berlin
BEGIN:VEVENT
SUMMARY:Potenziali implicazioni della transizione all'idrogeno sul rischio
  industriale
DTSTART;TZID=Europe/Berlin;VALUE=DATE-TIME:20240621T090000
DTEND;TZID=Europe/Berlin;VALUE=DATE-TIME:20240621T160000
DTSTAMP;VALUE=DATE-TIME:20260425T162846Z
UID:63da7ed17b3d40a880ee6ce371af47d6@www.isprambiente.gov.it
CREATED;VALUE=DATE-TIME:20240612T131758Z
LAST-MODIFIED;VALUE=DATE-TIME:20250722T085438Z
LOCATION:Webinar
URL:https://www.isprambiente.gov.it/it/attivita/controlli-e-ispezioni/form
 azione-continua/seminari-2024/potenziali-implicazioni-della-transizione-al
 lidrogeno-sul-rischio-industriale
END:VEVENT
BEGIN:VTIMEZONE
TZID:Europe/Berlin
X-LIC-LOCATION:Europe/Berlin
BEGIN:DAYLIGHT
DTSTART;VALUE=DATE-TIME:20240331T030000
TZNAME:CEST
TZOFFSETFROM:+0100
TZOFFSETTO:+0200
END:DAYLIGHT
END:VTIMEZONE
END:VCALENDAR
