BEGIN:VCALENDAR
VERSION:2.0
PRODID:-//Plone.org//NONSGML plone.app.event//EN
X-WR-TIMEZONE:Europe/Berlin
BEGIN:VEVENT
SUMMARY:Problematiche di sicurezza legate all’utilizzo di prodotti esplo
 sivi - Ricadute normative e lezioni apprese
DTSTART;VALUE=DATE:20240930
DTEND;VALUE=DATE:20241001
DTSTAMP;VALUE=DATE-TIME:20260425T162809Z
UID:1808d6857d5143979dd4b61f1bb19ba3@www.isprambiente.gov.it
CREATED;VALUE=DATE-TIME:20240917T140229Z
DESCRIPTION:Seminari di Formazione Continua per Ispettori Seveso e Ambient
 ali
LAST-MODIFIED;VALUE=DATE-TIME:20250722T085438Z
LOCATION:Roma - ISPRA - tramite collegamento in videoconferenza
URL:https://www.isprambiente.gov.it/it/attivita/controlli-e-ispezioni/form
 azione-continua/seminari-2024/problematiche-di-sicurezza-legate-all2019uti
 lizzo-di-prodotti-esplosivi-ricadute-normative-e-lezioni-apprese
END:VEVENT
END:VCALENDAR
