BEGIN:VCALENDAR
VERSION:2.0
PRODID:-//Plone.org//NONSGML plone.app.event//EN
X-WR-TIMEZONE:Europe/Berlin
BEGIN:VEVENT
SUMMARY:Seminari di Formazione Continua per Ispettori Ambientali e Persona
 le del Servizio VAL‐RTEC: “Partecipazione a progetti e attività inter
 nazionali”
DTSTART;VALUE=DATE:20240510
DTEND;VALUE=DATE:20240511
DTSTAMP;VALUE=DATE-TIME:20260425T162933Z
UID:c1ec7ccca04a40cca36fcf981d50b0e1@www.isprambiente.gov.it
CREATED;VALUE=DATE-TIME:20240517T060834Z
LAST-MODIFIED;VALUE=DATE-TIME:20250722T085438Z
LOCATION:Roma - ISPRA - videoconferenza e in presenza
URL:https://www.isprambiente.gov.it/it/attivita/controlli-e-ispezioni/form
 azione-continua/seminari-2024/seminari-di-formazione-continua-per-ispettor
 i-ambientali-e-personale-del-servizio-val2010rtec-201cpartecipazione-a-pro
 getti-e-attivita-internazionali201d
END:VEVENT
END:VCALENDAR
