BEGIN:VCALENDAR
VERSION:2.0
PRODID:-//Plone.org//NONSGML plone.app.event//EN
X-WR-TIMEZONE:Europe/Berlin
BEGIN:VEVENT
SUMMARY:Seminario di formazione ISPRA per Ispettori Ambientali AIA “Dive
 rsificazione dei monitoraggi per valutare l’efficienza di combustione de
 i sistemi torcia delle raffinerie di greggio"
DTSTART;VALUE=DATE:20241009
DTEND;VALUE=DATE:20241010
DTSTAMP;VALUE=DATE-TIME:20260425T162939Z
UID:910eed9649b240149a050091be16eb9d@www.isprambiente.gov.it
CREATED;VALUE=DATE-TIME:20241004T121514Z
DESCRIPTION:Il seminario di formazione e aggiornamento\, a cura del Serviz
 io VAL RTEC e riservato agli Ispettori Ambientali AIA ed al personale di I
 SPRA/ARPA/APPA\, ha avuto la finalità di fornire ai partecipanti - attrav
 erso il contributo e l’esperienza maturata in campo da tre società che 
 si occupano dello sviluppo e della fornitura di tecnologie di processo\, s
 istemi di automazione e servizi per l'industria - un approfondimento di tr
 e diversi sistemi di monitoraggio dell'efficienza di combustione delle tor
 ce nelle raffinerie di greggio\, aspetto oggetto di attenzione in sede d
 ’ispezione AIA.
LAST-MODIFIED;VALUE=DATE-TIME:20250722T085438Z
LOCATION:Roma - ISPRA - videoconferenza e in presenza (Sala SNPA)
URL:https://www.isprambiente.gov.it/it/attivita/controlli-e-ispezioni/form
 azione-continua/seminari-2024/seminario-di-formazione-ispra-per-ispettori-
 ambientali-aia-201cdiversificazione-dei-monitoraggi-per-valutare-l2019effi
 cienza-di-combustione-dei-sistemi-torcia-delle-raffinerie-di-greggio
END:VEVENT
END:VCALENDAR
