BEGIN:VCALENDAR
VERSION:2.0
PRODID:-//Plone.org//NONSGML plone.app.event//EN
X-WR-TIMEZONE:Europe/Berlin
BEGIN:VEVENT
SUMMARY:Stabilimenti Seveso e AIA (nazionali) esperienze e sviluppi di int
 egrazione nelle attività di verifica e controllo
DTSTART;VALUE=DATE:20241211
DTEND;VALUE=DATE:20241212
DTSTAMP;VALUE=DATE-TIME:20260425T174813Z
UID:d26f5551ad9c42bd8273f9dfafcaed43@www.isprambiente.gov.it
CREATED;VALUE=DATE-TIME:20241218T063139Z
DESCRIPTION:Si è tenuto l’11 dicembre 2024 il convegno di informazione 
 e approfondimento\, in modalità ibrida\, "STABILIMENTI SEVESO E AIA (NAZI
 ONALI) ESPERIENZE E SVILUPPI DI INTEGRAZIONE NELLE ATTIVITÀ DI VERIFICA 
 E CONTROLLO"\, presso le Scuole Centrali Antincendi - Dipartimento dei Vig
 ili del Fuoco\, del Soccorso Pubblico e della Difesa Civile\, riguardante 
 le attività di  verifica e controllo sugli stabilimenti soggetti ad AIA 
 statale\, di cui al decreto legislativo 3 aprile 2006\, n. 152\, e rientra
 nti nella normativa “SEVESO”\, per condividere le possibili modalità 
 applicative di quanto previsto all’art. 27 c. 3 del D.lgs. 105/2015 (coo
 rdinamento con i controlli effettuati per verificare il rispetto delle pre
 scrizioni dell’Autorizzazione Integrata Ambientale) ed all’art. 29 dec
 ies\, comma 3 del D.Lgs 152/06 e s.m.i..
LAST-MODIFIED;VALUE=DATE-TIME:20250722T085438Z
LOCATION:Roma\, Piazza Scilla 2 - CNVVF - Webinar
URL:https://www.isprambiente.gov.it/it/attivita/controlli-e-ispezioni/form
 azione-continua/seminari-2024/stabilimenti-seveso-e-aia-nazionali-esperien
 ze-e-sviluppi-di-integrazione-nelle-attivita-di-verifica-e-controllo
END:VEVENT
END:VCALENDAR
