BEGIN:VCALENDAR
VERSION:2.0
PRODID:-//Plone.org//NONSGML plone.app.event//EN
X-WR-TIMEZONE:Europe/Berlin
BEGIN:VEVENT
SUMMARY:Seminari di Formazione Continua per Ispettori Seveso e Ambientali 
  “BESS e prevenzione degli incidenti industriali”
DTSTART;TZID=Europe/Berlin;VALUE=DATE-TIME:20250324T093000
DTEND;TZID=Europe/Berlin;VALUE=DATE-TIME:20250324T160000
DTSTAMP;VALUE=DATE-TIME:20260425T131806Z
UID:fc083f3880ac49b28aaf2b15faddcec6@www.isprambiente.gov.it
CREATED;VALUE=DATE-TIME:20250312T081607Z
LAST-MODIFIED;VALUE=DATE-TIME:20250722T085438Z
LOCATION:Roma - ISPRA - webinar
URL:https://www.isprambiente.gov.it/it/attivita/controlli-e-ispezioni/form
 azione-continua/seminari-2025/bess-e-prevenzione-degli-incidenti-industria
 li
END:VEVENT
BEGIN:VTIMEZONE
TZID:Europe/Berlin
X-LIC-LOCATION:Europe/Berlin
BEGIN:STANDARD
DTSTART;VALUE=DATE-TIME:20241027T020000
TZNAME:CET
TZOFFSETFROM:+0200
TZOFFSETTO:+0100
END:STANDARD
END:VTIMEZONE
END:VCALENDAR
