BEGIN:VCALENDAR
VERSION:2.0
PRODID:-//Plone.org//NONSGML plone.app.event//EN
X-WR-TIMEZONE:Europe/Berlin
BEGIN:VEVENT
SUMMARY:Gestione delle apparecchiature elettriche in raffineria e relativo
  impatto ambientale
DTSTART;VALUE=DATE:20250522
DTEND;VALUE=DATE:20250523
DTSTAMP;VALUE=DATE-TIME:20260425T145426Z
UID:eaf21462a02a46ba9a6627c17ccb2e1c@www.isprambiente.gov.it
CREATED;VALUE=DATE-TIME:20250605T092724Z
LAST-MODIFIED;VALUE=DATE-TIME:20250722T085438Z
LOCATION:Roma - ISPRA - videoconferenza e in presenza
URL:https://www.isprambiente.gov.it/it/attivita/controlli-e-ispezioni/form
 azione-continua/seminari-2025/gestione-delle-apparecchiature-elettriche-in
 -raffineria-e-relativo-impatto-ambientale
END:VEVENT
END:VCALENDAR
