BEGIN:VCALENDAR
VERSION:2.0
PRODID:-//Plone.org//NONSGML plone.app.event//EN
X-WR-TIMEZONE:Europe/Berlin
BEGIN:VEVENT
SUMMARY:La gestione dell’integrità meccanica negli stabilimenti Seveso:
  principali tecniche CND applicabili a serbatoi metallici e in vetroresina
DTSTART;VALUE=DATE:20251210
DTEND;VALUE=DATE:20251211
DTSTAMP;VALUE=DATE-TIME:20260425T132603Z
UID:fb2db1a267734791a4a838396da23ead@www.isprambiente.gov.it
CREATED;VALUE=DATE-TIME:20251118T065423Z
DESCRIPTION:Il webinar di formazione\, a cura della Sezione Analisi Integr
 ata dei Rischi Industriali del Servizio VAL RTEC e riservato agli Ispettor
 i Seveso e Ambientali ISPRA e del SNPA\, oltre che alle strutture del CNVV
 F e INAIL impegnate nelle attività di controllo\, rientra nei seminari on
  line\, previsti nell’ambito dell’accordo stipulato tra il MASE e l’
 ISPRA\, che hanno come finalità l’approfondimento e il confronto su nuo
 ve tematiche in materia di rischio industriale e prevenzione degli inciden
 ti rilevanti.   La terza sessione degli incontri - con interventi a cura d
 i relatori ISPRA\, INAIL e Università e che si è tenuta il 10 dicembre 2
 025 - ha trattato le potenziali implicazioni che una corretta manutenzione
  delle apparecchiature critiche\, attraverso una gestione lungimirante del
 l’”asset integrity” possono avere in termini di sicurezza industrial
 e.   Nello svolgimento delle attività di controllo effettuate presso gli 
 stabilimenti rientranti nel campo di applicazione del D.Lgs. 105/2015\, ne
 gli ultimi tempi ha assunto grande importanza nella raccolta delle evidenz
 e relative alle attività di manutenzione sulle apparecchiature critiche\,
  la dimostrazione che l’organizzazione aziendale nell’ambito del propr
 io SGS-PIR sia in grado di identificare e gestire correttamente l’integr
 ità meccanica dei propri asset.   Sulla base dei dati storici\, è ormai 
 consolidata la conoscenza che la maggior parte delle perdite di contenimen
 to di sostanze pericolose riguardano principalmente serbatoi e condotte. A
 lcuni eventi incidentali recenti hanno inoltre focalizzato l’attenzione 
 non solo su apparecchiature metalliche\, ma hanno dimostrato che anche i s
 istemi di contenimento realizzati in vetroresina o materiali compositi pos
 sono\, col tempo\, essere soggetti a degrado e quindi non essere in grado 
 di garantire la stessa affidabilità iniziale.   Partendo da queste rifles
 sioni\, il webinar\, dopo i saluti istituzionali del Responsabile del Serv
 izio VAL RTEC\, Ing. Fabio Ferranti\, e del Responsabile della Sezione Ana
 lisi Integrata dei Rischi Industriali\, Ing. Romualdo Marrazzo\, ha fornit
 o un approfondimento su quelli che sono i principali meccanismi di degrado
  che possono interessare i serbatoi metallici sia atmosferici\, sia in pre
 ssione\, con richiami alle più utilizzate tecniche di controllo di integr
 ità non distruttive.   Il valore aggiunto è stato dato\, in particolare\
 , dalla trattazione di quelle che possono essere le modalità di gestione 
 di un corretto e efficace processo di applicazione dell’”asset integri
 ty” anche ai serbatoi realizzati in vetroresina o materiali compositi\, 
 comprese le informazioni su quello che gli ispettori dovrebbero aspettarsi
  di trovare documentato nei report di verifica\, per poter garantire una c
 orretta stima di quello che può essere il ciclo di vita residuo dell’ap
 parecchiatura e la gestione delle strategie di manutenzione future.   I re
 latori si sono succeduti come da  programma  lasciando anche ampio spazio 
 agli approfondimenti e ai chiarimenti richiesti dagli oltre 150 partecipan
 ti da remoto.
LAST-MODIFIED;VALUE=DATE-TIME:20260108T145110Z
LOCATION:Webinar
URL:https://www.isprambiente.gov.it/it/attivita/controlli-e-ispezioni/form
 azione-continua/seminari-2025/la-gestione-dell2019integrita-meccanica-negl
 i-stabilimenti-seveso-principali-tecniche-cnd-applicabili-a-serbatoi-metal
 lici-e-in-vetroresina
END:VEVENT
END:VCALENDAR
