BEGIN:VCALENDAR
VERSION:2.0
PRODID:-//Plone.org//NONSGML plone.app.event//EN
X-WR-TIMEZONE:Europe/Berlin
BEGIN:VEVENT
SUMMARY:Nuova classificazione armonizzata del Piombo. Riferimenti normativ
 i e ricadute sull’industria dei metalli
DTSTART;VALUE=DATE:20251211
DTEND;VALUE=DATE:20251212
DTSTAMP;VALUE=DATE-TIME:20260425T132643Z
UID:8df857fd2f9243ae96e4c8d1fb303598@www.isprambiente.gov.it
CREATED;VALUE=DATE-TIME:20251117T110025Z
DESCRIPTION:Si è tenuto l’11 dicembre 2025\, in modalità webinar\, il 
 quarto degli eventi organizzati dagli esperti senior della Sezione Analisi
  Integrata dei Rischi Industriali del Servizio VAL RTEC\, coordinati dal R
 esponsabile della Sezione\, Ing. Romualdo Marrazzo\, e previsti nell’amb
 ito dell’accordo vigente tra il MASE e l’ISPRA in materia di prevenzio
 ne dei rischi di incidente rilevante (SEVESO).    Il seminario che rientr
 a nel percorso di formazione e aggiornamento continuo degli Ispettori Seve
 so e Ambientali ISPRA\, è rivolto anche alle strutture del SNPA\, del CNV
 VF e dell’INAIL impegnate nelle attività di valutazione e controllo\, a
 i funzionari e ai dirigenti dei Ministeri e degli Enti coinvolti nelle att
 ività nazionali e ai rappresentanti delle Associazioni di categoria dei G
 estori di stabilimenti SEVESO.   Dopo i saluti istituzionali del Direttore
  del Dipartimento VAL\, Ing. Valeria Frittelloni\, e l’introduzione al w
 ebinar del Responsabile del Servizio VAL RTEC\, Ing. Fabio Ferranti\, il q
 uarto dei moduli formativi previsti\, moderato da Fabrizio Vazzana\, Respo
 nsabile del Settore gestione e pianificazione dei controlli sui rischi ind
 ustriali (VAL-RTEC-SIND)\, ha avuto come focus la nuova classificazione ar
 monizzata del piombo dettata dal REGOLAMENTO DELEGATO (UE) 2024/197 DELLA 
 COMMISSIONE del 19 ottobre 2023 (che modifica il regolamento (CE) n. 1272/
 2008 (CLP) e che è entrato in vigore da settembre 2025).    A seguito di
  tale regolamento\, associazioni di Confindustria\, che rappresentano le i
 mprese produttrici di metalli non ferrosi a livello nazionale\, hanno chie
 sto chiarimenti sulle possibili ricadute che la nuova classificazione del 
 Pb massivo possa avere sulla classificazione di prodotti e manufatti in me
 tallo/lega contenente Pb. Il regolamento aggiorna la tabella 3\, allegato 
 VI\, parte 3 del CLP\, caratterizzando anche il Pb massivo\, oltre al polv
 erulento\, come pericoloso per l’ambiente acquatico con tossicità croni
 ca 1 (H410)\, ovvero sostanza pericolosa sensu Seveso\; ciò implica il po
 ssibile assoggettamento delle imprese in questione alla Direttiva Seveso. 
   Sulla problematica è stato discusso ed approvato il quesito n. 26/2024\
 , oggetto anche di attività di specifico GdL\, nell’ambito delle attivi
 tà di Coordinamento Seveso ex art. 11 del D.Lgs. 105/15.   Di alta specia
 lizzazione ed esperienza i relatori che si sono succeduti come da  progra
 mma  lasciando anche ampio spazio agli approfondimenti e ai chiarimenti r
 ichiesti dagli oltre 200 partecipanti da remoto:     Presentazioni     At
 tività del tavolo di coordinamento Seveso  Andrea Vecchi (MASE)    La val
 utazione dei pericoli di incidente rilevante ai fini della comunicazione a
 lla Commissione europea: il DM 148/2016  Romualdo Marrazzo (ISPRA)    Nuov
 a classificazione armonizzata del Piombo – Quesito 26/2024  Fausta Delli
  Quadri (ISPRA)    Applicazioni pratiche e documentazione ECHA  Domenico M
 archesini (ARPA Lombardia)    Processo produttivo dell’ottone: rischi re
 ali e rischi improbabili  Marco Bertelli – Assomet    L’impatto della 
 nuova classificazione del Piombo per Batterie e Cavi sottomarini  Andrea S
 aletti\, Midac\; Ilaria Scola\, Prysmian (Federazione ANIE)    Il progetto
  sperimentale di classificazione delle leghe di rame  Chiara Lanzini – C
 onfindustria Brescia
LAST-MODIFIED;VALUE=DATE-TIME:20251216T115355Z
LOCATION:Webinar
URL:https://www.isprambiente.gov.it/it/attivita/controlli-e-ispezioni/form
 azione-continua/seminari-2025/nuova-classificazione-armonizzata-del-piombo
 -riferimenti-normativi-e-ricadute-sull2019industria-dei-metalli
END:VEVENT
END:VCALENDAR
