BEGIN:VCALENDAR
VERSION:2.0
PRODID:-//Plone.org//NONSGML plone.app.event//EN
X-WR-TIMEZONE:Europe/Berlin
BEGIN:VEVENT
SUMMARY:Seminario tecnico sul progetto NX Circular di NEXTCHEM - ISPRA e A
 RPA incontrano MYRECHEMICAL
DTSTART;VALUE=DATE:20250511
DTEND;VALUE=DATE:20250512
DTSTAMP;VALUE=DATE-TIME:20260425T145408Z
UID:e6b887681d1c4c70946203facb2e6e89@www.isprambiente.gov.it
CREATED;VALUE=DATE-TIME:20250605T080240Z
LAST-MODIFIED;VALUE=DATE-TIME:20250722T085438Z
LOCATION:Roma - Via Castello della Magliana\, 27
URL:https://www.isprambiente.gov.it/it/attivita/controlli-e-ispezioni/form
 azione-continua/seminari-2025/seminario-tecnico-sul-progetto-nx-circular-d
 i-nextchem-ispra-e-arpa-incontrano-myrechemical
END:VEVENT
END:VCALENDAR
