BEGIN:VCALENDAR
VERSION:2.0
PRODID:-//Plone.org//NONSGML plone.app.event//EN
X-WR-TIMEZONE:Europe/Berlin
BEGIN:VEVENT
SUMMARY:Sicurezza dei serbatoi atmosferici di idrocarburi\; impatto sull
 ’ambiente anche in riferimento ad eventi significativi di rilevanza inte
 rnazionale
DTSTART;VALUE=DATE:20250708
DTEND;VALUE=DATE:20250709
DTSTAMP;VALUE=DATE-TIME:20260425T145505Z
UID:797cfa314dbd498cb4ca93f2d7b910dc@www.isprambiente.gov.it
CREATED;VALUE=DATE-TIME:20250709T114735Z
DESCRIPTION:Il webinar di formazione\, a cura della Sezione Analisi Integr
 ata dei Rischi Industriali del Servizio VAL RTEC e riservato agli Ispettor
 i Seveso e Ambientali ISPRA e del SNPA\, oltre che alle strutture del CNVV
 F e INAIL impegnate nelle attività di controllo\, è stato il terzo dei s
 eminari on line\, previsti nell’ambito dell’accordo stipulato tra il M
 ASE e l’ISPRA\, che hanno come finalità l’approfondimento e il confro
 nto su nuove tematiche in materia di rischio industriale e prevenzione deg
 li incidenti rilevanti (per approfondimenti:  https://www.isprambiente.gov
 .it/it/attivita/controlli-e-ispezioni-ambientali/formazione-continua ).
LAST-MODIFIED;VALUE=DATE-TIME:20250728T103029Z
LOCATION:Webinar
URL:https://www.isprambiente.gov.it/it/attivita/controlli-e-ispezioni/form
 azione-continua/seminari-2025/sicurezza-dei-serbatoi-atmosferici-di-idroca
 rburi-impatto-sull2019ambiente-anche-in-riferimento-ad-eventi-significativ
 i-di-rilevanza-internazionale-1
END:VEVENT
END:VCALENDAR
