BEGIN:VCALENDAR
VERSION:2.0
PRODID:-//Plone.org//NONSGML plone.app.event//EN
X-WR-TIMEZONE:Europe/Berlin
BEGIN:VEVENT
SUMMARY:Seminari di Formazione Continua per Ispettori Seveso e Ambientali 
 “Sicurezza negli stabilimenti semplici. Casi incidentali in cui la gravi
 tà dell’evento (e degli effetti) prescinde dalla complessità del proce
 sso”
DTSTART;TZID=Europe/Berlin;VALUE=DATE-TIME:20250305T143000
DTEND;TZID=Europe/Berlin;VALUE=DATE-TIME:20250305T163000
DTSTAMP;VALUE=DATE-TIME:20260425T132644Z
UID:51ee67a57dab43ebbd68f82c7887dfb1@www.isprambiente.gov.it
CREATED;VALUE=DATE-TIME:20250220T085958Z
LAST-MODIFIED;VALUE=DATE-TIME:20250722T085438Z
LOCATION:Roma\, ISPRA -webinar
URL:https://www.isprambiente.gov.it/it/attivita/controlli-e-ispezioni/form
 azione-continua/seminari-2025/sicurezza-negli-stabilimenti-semplici-casi-i
 ncidentali-in-cui-la-gravita-dell-evento-e-degli-effetti-prescinde-dalla-c
 omplessita-del-processo
END:VEVENT
BEGIN:VTIMEZONE
TZID:Europe/Berlin
X-LIC-LOCATION:Europe/Berlin
BEGIN:STANDARD
DTSTART;VALUE=DATE-TIME:20241027T020000
TZNAME:CET
TZOFFSETFROM:+0200
TZOFFSETTO:+0100
END:STANDARD
END:VTIMEZONE
END:VCALENDAR
