BEGIN:VCALENDAR
VERSION:2.0
PRODID:-//Plone.org//NONSGML plone.app.event//EN
X-WR-TIMEZONE:Europe/Berlin
BEGIN:VEVENT
SUMMARY:Inspections and controls in Seveso and IED establishments: possibl
 e integrations for simplification purposes
DTSTART;VALUE=DATE:20260320
DTEND;VALUE=DATE:20260321
DTSTAMP;VALUE=DATE-TIME:20260425T162826Z
UID:34e3ed14d26c4878af117825aad90222@www.isprambiente.gov.it
CREATED;VALUE=DATE-TIME:20260305T094629Z
DESCRIPTION:Si è tenuto il 20 marzo 2026\, in modalità phigital\, il sec
 ondo degli eventi organizzati dagli esperti senior della Sezione Analisi I
 ntegrata dei Rischi Industriali del Servizio VAL RTEC coordinati dall’In
 g. Romualdo Marrazzo\, in sinergia con il MASE\, e previsti nell’ambito 
 dell’accordo vigente tra il MASE e l’ISPRA in materia di prevenzione d
 ei rischi di incidente rilevante (SEVESO).
LAST-MODIFIED;VALUE=DATE-TIME:20260402T062212Z
LOCATION:Roma\, Auditorium MASE
URL:https://www.isprambiente.gov.it/it/attivita/controlli-e-ispezioni/form
 azione-continua/seminari-2026/inspections-and-controls-in-seveso-and-ied-e
 stablishments-possible-integrations-for-simplification-purposes
END:VEVENT
END:VCALENDAR
