BEGIN:VCALENDAR
VERSION:2.0
PRODID:-//Plone.org//NONSGML plone.app.event//EN
X-WR-TIMEZONE:Europe/Berlin
BEGIN:VEVENT
SUMMARY:NaTech e stabilimenti Seveso: La gestione dei pericoli e disastri 
 naturali negli stabilimenti a rischio di incidente rilevante
DTSTART;VALUE=DATE:20260515
DTEND;VALUE=DATE:20260516
DTSTAMP;VALUE=DATE-TIME:20260425T162111Z
UID:117728e2a8704c3fbeeaa3493cc21035@www.isprambiente.gov.it
CREATED;VALUE=DATE-TIME:20260421T132158Z
DESCRIPTION:Seminari di Formazione Continua per Ispettori Seveso e Ambient
 ali    Il webinar di formazione\, a cura della Sezione Analisi Integrata d
 ei Rischi Industriali del Servizio VAL RTEC e riservato agli Ispettori Sev
 eso e Ambientali ISPRA e del SNPA\, oltre che alle strutture del CNVVF e I
 NAIL impegnate nelle attività di controllo\, è il quarto dei seminari on
  line\, previsti nell’ambito dell’accordo stipulato tra il MASE e l’
 ISPRA\, che hanno come finalità l’approfondimento e il confronto su nuo
 ve tematiche in materia di rischio industriale e prevenzione degli inciden
 ti rilevanti.
LAST-MODIFIED;VALUE=DATE-TIME:20260421T132225Z
LOCATION:Webinar
URL:https://www.isprambiente.gov.it/it/attivita/controlli-e-ispezioni/form
 azione-continua/seminari-2026/natech-e-stabilimenti-seveso-la-gestione-dei
 -pericoli-e-disastri-naturali-negli-stabilimenti-a-rischio-di-incidente-ri
 levante
END:VEVENT
END:VCALENDAR
