BEGIN:VCALENDAR
VERSION:2.0
PRODID:-//Plone.org//NONSGML plone.app.event//EN
X-WR-TIMEZONE:Europe/Berlin
BEGIN:VEVENT
SUMMARY:Seminario “Aggiornamento sulle tecniche di controlli non distrut
 tivi impiegati per il monitoraggio dell'integrità dei serbatoi di stoccag
 gio idrocarburi”
DTSTART;VALUE=DATE:20260310
DTEND;VALUE=DATE:20260311
DTSTAMP;VALUE=DATE-TIME:20260425T162940Z
UID:ca6f8b90c2a740ee8c3a051dcd34b75c@www.isprambiente.gov.it
CREATED;VALUE=DATE-TIME:20260213T115352Z
LAST-MODIFIED;VALUE=DATE-TIME:20260311T100501Z
LOCATION:Roma - ISPRA – videoconferenza
URL:https://www.isprambiente.gov.it/it/attivita/controlli-e-ispezioni/form
 azione-continua/seminari-2026/seminario-aggiornamento-sulle-tecniche-di-co
 ntrolli-non-distruttivi-impiegati-per-il-monitoraggio-dellintegrita-dei-se
 rbatoi-di-stoccaggio-idrocarburi
END:VEVENT
END:VCALENDAR
