BEGIN:VCALENDAR
VERSION:2.0
PRODID:-//Plone.org//NONSGML plone.app.event//EN
X-WR-TIMEZONE:Europe/Berlin
BEGIN:VEVENT
SUMMARY:Summer school  “Ecosistemi marino-costieri e Cambiamenti Climati
 ci:  catene di connessioni e resilienza”
DTSTART;VALUE=DATE:20250922
DTEND;VALUE=DATE:20250927
DTSTAMP;VALUE=DATE-TIME:20260426T002250Z
UID:b94e1ed7393443df85ee5620b95747c3@www.isprambiente.gov.it
CREATED;VALUE=DATE-TIME:20250527T083929Z
LAST-MODIFIED;VALUE=DATE-TIME:20250704T053210Z
LOCATION:Cagliari
URL:https://www.isprambiente.gov.it/it/attivita/formeducambiente/summer_sc
 hool/summer_school_ecocosistemi_marino_costieri
END:VEVENT
END:VCALENDAR
