BEGIN:VCALENDAR
VERSION:2.0
PRODID:-//Plone.org//NONSGML plone.app.event//EN
X-WR-TIMEZONE:Europe/Berlin
BEGIN:VEVENT
SUMMARY:Corso "La Valutazione di Impatto Ambientale:  un percorso completo
  per l’utilizzo di uno strumento efficace di tutela dell’ambiente"
DTSTART;VALUE=DATE:20251113
DTEND;VALUE=DATE:20251114
DTSTAMP;VALUE=DATE-TIME:20260423T175753Z
UID:d6e69a2248044ff78e34a999ca18be81@www.isprambiente.gov.it
CREATED;VALUE=DATE-TIME:20230323T090031Z
DESCRIPTION:ISPRA propone il corso di formazione in modalità e-learning: 
 “La Valutazione di Impatto Ambientale (VIA): un percorso completo per l
 ’utilizzo di uno strumento efficace di tutela dell’ambiente”.    Il
  percorso formativo ha l’obiettivo di:     Favorire il perfezionamento d
 elle competenze necessarie per la redazione e/o la valutazione degli studi
  di impatto ambientale\;   approfondire i singoli fattori ambientali e gli
  agenti fisici coinvolti nella VIA\;   fornire una panoramica sull’attua
 le organizzazione procedurale della VIA in Italia\, gli adempimenti necess
 ari\, la documentazione utile per svolgere la procedura\, gli strumenti di
 sponibili a supporto delle ricerche per la redazione dei documenti.       
  L’impegno stimato è di circa 21 ore di formazione.    PROGRAMMA DEL CO
 RSO
LAST-MODIFIED;VALUE=DATE-TIME:20251106T112254Z
URL:https://www.isprambiente.gov.it/it/attivita/formeducambiente/via_web
END:VEVENT
END:VCALENDAR
