BEGIN:VCALENDAR
VERSION:2.0
PRODID:-//Plone.org//NONSGML plone.app.event//EN
X-WR-TIMEZONE:Europe/Berlin
BEGIN:VEVENT
SUMMARY:“CONGRESSO ANMS 2020 - I MUSEI SCIENTIFICI ITALIANI NEL 2020”
DTSTART;TZID=Europe/Berlin;VALUE=DATE-TIME:20201027T180000
DTEND;TZID=Europe/Berlin;VALUE=DATE-TIME:20201029T190000
DTSTAMP;VALUE=DATE-TIME:20260419T220908Z
UID:b8b15e09ce0e468e86fa1f85d9d4458c@www.isprambiente.gov.it
CONTACT:http://www.anms.it/notizie/dettaglio_notizia/63
CREATED;VALUE=DATE-TIME:20200809T164443Z
LAST-MODIFIED;VALUE=DATE-TIME:20230120T133415Z
URL:https://www.isprambiente.gov.it/it/attivita/museo/calendario-eventi/20
 20/201ccongresso-anms-2020-i-musei-scientifici-italiani-nel-2020201d
END:VEVENT
BEGIN:VTIMEZONE
TZID:Europe/Berlin
X-LIC-LOCATION:Europe/Berlin
BEGIN:STANDARD
DTSTART;VALUE=DATE-TIME:20201025T020000
TZNAME:CET
TZOFFSETFROM:+0200
TZOFFSETTO:+0100
END:STANDARD
END:VTIMEZONE
END:VCALENDAR
