BEGIN:VCALENDAR
VERSION:2.0
PRODID:-//Plone.org//NONSGML plone.app.event//EN
X-WR-TIMEZONE:Europe/Berlin
BEGIN:VEVENT
SUMMARY:“Lucy. Sogno di un’evoluzione”\, la mostra di Tanino Liberat
 ore al MANN
DTSTART;TZID=Europe/Berlin;VALUE=DATE-TIME:20201204T090000
DTEND;TZID=Europe/Berlin;VALUE=DATE-TIME:20210412T100000
DTSTAMP;VALUE=DATE-TIME:20260419T203036Z
UID:939f1b2b932041e083c75f9364380e58@www.isprambiente.gov.it
CONTACT:http://www.museoarcheologiconapoli.it/it/2020/12/lucy-sogno-di-une
 voluzione-la-mostra-di-tanino-liberatore-al-mann/
CREATED;VALUE=DATE-TIME:20201214T081222Z
LAST-MODIFIED;VALUE=DATE-TIME:20230120T134356Z
URL:https://www.isprambiente.gov.it/it/attivita/museo/calendario-eventi/20
 20/201clucy-sogno-di-un2019evoluzione201d-la-mostra-di-tanino-liberatore-a
 l-mann
END:VEVENT
BEGIN:VTIMEZONE
TZID:Europe/Berlin
X-LIC-LOCATION:Europe/Berlin
BEGIN:STANDARD
DTSTART;VALUE=DATE-TIME:20201025T020000
TZNAME:CET
TZOFFSETFROM:+0200
TZOFFSETTO:+0100
END:STANDARD
BEGIN:DAYLIGHT
DTSTART;VALUE=DATE-TIME:20210328T030000
TZNAME:CEST
TZOFFSETFROM:+0100
TZOFFSETTO:+0200
END:DAYLIGHT
END:VTIMEZONE
END:VCALENDAR
