BEGIN:VCALENDAR
VERSION:2.0
PRODID:-//Plone.org//NONSGML plone.app.event//EN
X-WR-TIMEZONE:Europe/Berlin
BEGIN:VEVENT
SUMMARY:52 Giornata Internazionale  - Mostra scambio dei minerali e fossil
 i
DTSTART;TZID=Europe/Berlin;VALUE=DATE-TIME:20200725T090000
DTEND;TZID=Europe/Berlin;VALUE=DATE-TIME:20200726T100000
DTSTAMP;VALUE=DATE-TIME:20260419T221047Z
UID:3c587b1922c847528a6aedcf5e013f70@www.isprambiente.gov.it
CONTACT:http://www.gruppomineralogicomassetano.it/gmm_004.htm
CREATED;VALUE=DATE-TIME:20200727T073528Z
LAST-MODIFIED;VALUE=DATE-TIME:20230120T133415Z
URL:https://www.isprambiente.gov.it/it/attivita/museo/calendario-eventi/20
 20/52-giornata-internazionale-mostra-scambio-dei-minerali-e-fossili
END:VEVENT
BEGIN:VTIMEZONE
TZID:Europe/Berlin
X-LIC-LOCATION:Europe/Berlin
BEGIN:DAYLIGHT
DTSTART;VALUE=DATE-TIME:20200329T030000
TZNAME:CEST
TZOFFSETFROM:+0100
TZOFFSETTO:+0200
END:DAYLIGHT
END:VTIMEZONE
END:VCALENDAR
