BEGIN:VCALENDAR
VERSION:2.0
PRODID:-//Plone.org//NONSGML plone.app.event//EN
X-WR-TIMEZONE:Europe/Berlin
BEGIN:VEVENT
SUMMARY:5a Giornata di Geologia e Storia
DTSTART;TZID=Europe/Berlin;VALUE=DATE-TIME:20201028T090000
DTEND;TZID=Europe/Berlin;VALUE=DATE-TIME:20201028T100000
DTSTAMP;VALUE=DATE-TIME:20260419T202749Z
UID:1551e37cef154d32be8af4b2e8ceb993@www.isprambiente.gov.it
CREATED;VALUE=DATE-TIME:20201022T073102Z
LAST-MODIFIED;VALUE=DATE-TIME:20230120T133416Z
URL:https://www.isprambiente.gov.it/it/attivita/museo/calendario-eventi/20
 20/5a-giornata-di-geologia-e-storia
END:VEVENT
BEGIN:VTIMEZONE
TZID:Europe/Berlin
X-LIC-LOCATION:Europe/Berlin
BEGIN:STANDARD
DTSTART;VALUE=DATE-TIME:20201025T020000
TZNAME:CET
TZOFFSETFROM:+0200
TZOFFSETTO:+0100
END:STANDARD
END:VTIMEZONE
END:VCALENDAR
