BEGIN:VCALENDAR
VERSION:2.0
PRODID:-//Plone.org//NONSGML plone.app.event//EN
X-WR-TIMEZONE:Europe/Berlin
BEGIN:VEVENT
SUMMARY:A che serve volare 2 - Ricognizioni aeree dell'Asse
DTSTART;TZID=Europe/Berlin;VALUE=DATE-TIME:20200120T112000
DTEND;TZID=Europe/Berlin;VALUE=DATE-TIME:20200120T112000
DTSTAMP;VALUE=DATE-TIME:20260419T221626Z
UID:bb88a30c50b24cfeb0067306bfab3da4@www.isprambiente.gov.it
CREATED;VALUE=DATE-TIME:20200120T121952Z
LAST-MODIFIED;VALUE=DATE-TIME:20230120T133405Z
URL:https://www.isprambiente.gov.it/it/attivita/museo/calendario-eventi/20
 20/a-che-serve-volare-2-ricognizioni-aeree-dellasse
END:VEVENT
BEGIN:VTIMEZONE
TZID:Europe/Berlin
X-LIC-LOCATION:Europe/Berlin
BEGIN:STANDARD
DTSTART;VALUE=DATE-TIME:20191027T020000
TZNAME:CET
TZOFFSETFROM:+0200
TZOFFSETTO:+0100
END:STANDARD
END:VTIMEZONE
END:VCALENDAR
