BEGIN:VCALENDAR
VERSION:2.0
PRODID:-//Plone.org//NONSGML plone.app.event//EN
X-WR-TIMEZONE:Europe/Berlin
BEGIN:VEVENT
SUMMARY:A Locarno il parco giurassico più grande della Svizzera!
DTSTART;TZID=Europe/Berlin;VALUE=DATE-TIME:20200710T090000
DTEND;TZID=Europe/Berlin;VALUE=DATE-TIME:20200920T100000
DTSTAMP;VALUE=DATE-TIME:20260420T005952Z
UID:c67ee20e652c45bb949e18d3bd2e2486@www.isprambiente.gov.it
CONTACT:https://www.dinosaurspark.ch/
CREATED;VALUE=DATE-TIME:20200702T073520Z
LAST-MODIFIED;VALUE=DATE-TIME:20230120T133415Z
URL:https://www.isprambiente.gov.it/it/attivita/museo/calendario-eventi/20
 20/a-locarno-il-parco-giurassico-piu-grande-della-svizzera
END:VEVENT
BEGIN:VTIMEZONE
TZID:Europe/Berlin
X-LIC-LOCATION:Europe/Berlin
BEGIN:DAYLIGHT
DTSTART;VALUE=DATE-TIME:20200329T030000
TZNAME:CEST
TZOFFSETFROM:+0100
TZOFFSETTO:+0200
END:DAYLIGHT
END:VTIMEZONE
END:VCALENDAR
