BEGIN:VCALENDAR
VERSION:2.0
PRODID:-//Plone.org//NONSGML plone.app.event//EN
X-WR-TIMEZONE:Europe/Berlin
BEGIN:VEVENT
SUMMARY:A SCUOLA NELLA MINIERA DI BAUXITE
DTSTART;TZID=Europe/Berlin;VALUE=DATE-TIME:20201008T100000
DTEND;TZID=Europe/Berlin;VALUE=DATE-TIME:20201008T110000
DTSTAMP;VALUE=DATE-TIME:20260419T234359Z
UID:a9dffa7000234246a179729360561717@www.isprambiente.gov.it
CONTACT:https://www.settimanaterra.org/node/4164
CREATED;VALUE=DATE-TIME:20200930T080113Z
LAST-MODIFIED;VALUE=DATE-TIME:20230120T133415Z
URL:https://www.isprambiente.gov.it/it/attivita/museo/calendario-eventi/20
 20/a-scuola-nella-miniera-di-bauxite
END:VEVENT
BEGIN:VTIMEZONE
TZID:Europe/Berlin
X-LIC-LOCATION:Europe/Berlin
BEGIN:DAYLIGHT
DTSTART;VALUE=DATE-TIME:20200329T030000
TZNAME:CEST
TZOFFSETFROM:+0100
TZOFFSETTO:+0200
END:DAYLIGHT
END:VTIMEZONE
END:VCALENDAR
