BEGIN:VCALENDAR
VERSION:2.0
PRODID:-//Plone.org//NONSGML plone.app.event//EN
X-WR-TIMEZONE:Europe/Berlin
BEGIN:VEVENT
SUMMARY:A spasso nell’Era glaciale Chi pascolava nella Pianura Padana mi
 gliaia di anni fa?
DTSTART;TZID=Europe/Berlin;VALUE=DATE-TIME:20200522T100000
DTEND;TZID=Europe/Berlin;VALUE=DATE-TIME:20200522T110000
DTSTAMP;VALUE=DATE-TIME:20260419T221937Z
UID:e13e5f377dc14100a39a023eec2e982c@www.isprambiente.gov.it
CONTACT:https://www.musei.unipd.it/it/museo-geologia-paleontologia-benvenu
 ti-%e2%80%99era-glaciale
CREATED;VALUE=DATE-TIME:20200520T082458Z
LAST-MODIFIED;VALUE=DATE-TIME:20230120T133405Z
URL:https://www.isprambiente.gov.it/it/attivita/museo/calendario-eventi/20
 20/a-spasso-nell2019era-glaciale-chi-pascolava-nella-pianura-padana-miglia
 ia-di-anni-fa
END:VEVENT
BEGIN:VTIMEZONE
TZID:Europe/Berlin
X-LIC-LOCATION:Europe/Berlin
BEGIN:DAYLIGHT
DTSTART;VALUE=DATE-TIME:20200329T030000
TZNAME:CEST
TZOFFSETFROM:+0100
TZOFFSETTO:+0200
END:DAYLIGHT
END:VTIMEZONE
END:VCALENDAR
