BEGIN:VCALENDAR
VERSION:2.0
PRODID:-//Plone.org//NONSGML plone.app.event//EN
X-WR-TIMEZONE:Europe/Berlin
BEGIN:VEVENT
SUMMARY:A tutta Geologia
DTSTART;TZID=Europe/Berlin;VALUE=DATE-TIME:20200625T170000
DTEND;TZID=Europe/Berlin;VALUE=DATE-TIME:20200625T180000
DTSTAMP;VALUE=DATE-TIME:20260419T215906Z
UID:f21cb00877b440c696a6810fbc697367@www.isprambiente.gov.it
CONTACT:http://www.civicimuseiudine.it/it/mostre-eventi/39-storia-naturale
 /952-a-tutta-geologia
CREATED;VALUE=DATE-TIME:20200625T152616Z
LAST-MODIFIED;VALUE=DATE-TIME:20230120T133405Z
URL:https://www.isprambiente.gov.it/it/attivita/museo/calendario-eventi/20
 20/a-tutta-geologia
END:VEVENT
BEGIN:VTIMEZONE
TZID:Europe/Berlin
X-LIC-LOCATION:Europe/Berlin
BEGIN:DAYLIGHT
DTSTART;VALUE=DATE-TIME:20200329T030000
TZNAME:CEST
TZOFFSETFROM:+0100
TZOFFSETTO:+0200
END:DAYLIGHT
END:VTIMEZONE
END:VCALENDAR
