BEGIN:VCALENDAR
VERSION:2.0
PRODID:-//Plone.org//NONSGML plone.app.event//EN
X-WR-TIMEZONE:Europe/Berlin
BEGIN:VEVENT
SUMMARY:Abruzzo Mineral show 2020
DTSTART;TZID=Europe/Berlin;VALUE=DATE-TIME:20230112T160000
DTEND;TZID=Europe/Berlin;VALUE=DATE-TIME:20230112T170000
DTSTAMP;VALUE=DATE-TIME:20260419T234303Z
UID:b9102329a2084b26a706951ec3130ee6@www.isprambiente.gov.it
CREATED;VALUE=DATE-TIME:20200206T112527Z
LAST-MODIFIED;VALUE=DATE-TIME:20230120T133405Z
LOCATION:Montesilvano
URL:https://www.isprambiente.gov.it/it/attivita/museo/calendario-eventi/20
 20/abruzzo-mineral-show-2020
END:VEVENT
BEGIN:VTIMEZONE
TZID:Europe/Berlin
X-LIC-LOCATION:Europe/Berlin
BEGIN:STANDARD
DTSTART;VALUE=DATE-TIME:20221030T020000
TZNAME:CET
TZOFFSETFROM:+0200
TZOFFSETTO:+0100
END:STANDARD
END:VTIMEZONE
END:VCALENDAR
